BEGIN:VCALENDAR
VERSION:2.0
PRODID:-//wp-events-plugin.com//6.6.4.4//EN
TZID:Europe/Paris
X-WR-TIMEZONE:Europe/Paris
BEGIN:VEVENT
UID:77@fidta.fr
DTSTART;TZID=Europe/Paris;VALUE=DATE:20200626
DTEND;TZID=Europe/Paris;VALUE=DATE:20200704
DTSTAMP:20200505T090320Z
URL:https://www.fidta.fr/Stages/stage-pba-a-paris/
SUMMARY:Stage PBA à Paris
DESCRIPTION:Formatrice : Mme Faïrouz Rouzaud\n\nPour les questions merci 
 de contacter la formatrice : directrice@institut-delatte.org\n\n 	Journé
 e découverte à la PBA et Prérequis Niveau 1 : 26 juin 2020 - COMPLET !\
 nLa journée découverte peut s’effectuer seule ou en prérequis pour ac
 céder au niveau 1\n 	Niveau 1 : 27 &amp\; 28 juin 2020 - COMPLET !\n 	Niv
 eau 2 : 29 &amp\; 30 juin 2020 - COMPLET !\n 	Module verbalisation approfo
 ndie : 1er juillet 2020\n 	Bilan de compétences niveau 3 à 5 : 2 &amp\; 
 3 juillet 2020 - COMPLET !\nVous pouvez vous inscrire sur la liste d'atten
 te\n\n 	Auditeur libre : 2 &amp\; 3 juillet 2020\n\nAttention pour l’ins
 cription\, il ne faut pas oublier les frais de dossier.
ATTACH;FMTTYPE=image/jpeg:https://www.fidta.fr/wp-content/uploads/2018/09/
 paris-3296269_640.jpg
LOCATION:Paris - Forum 104\, 104 rue de Vaugirard\, Paris\, 75006\, France
GEO:48.84613;2.32346
X-APPLE-STRUCTURED-LOCATION;VALUE=URI;X-ADDRESS=104 rue de Vaugirard\, Pari
 s\, 75006\, France;X-APPLE-RADIUS=100;X-TITLE=Paris - Forum 104:geo:48.846
 13,2.32346
END:VEVENT
BEGIN:VTIMEZONE
TZID:Europe/Paris
X-LIC-LOCATION:Europe/Paris
BEGIN:DAYLIGHT
DTSTART:20200329T030000
TZOFFSETFROM:+0100
TZOFFSETTO:+0200
TZNAME:CEST
END:DAYLIGHT
END:VTIMEZONE
END:VCALENDAR