BEGIN:VCALENDAR
VERSION:2.0
PRODID:-//wp-events-plugin.com//6.6.4.4//EN
TZID:Europe/Paris
X-WR-TIMEZONE:Europe/Paris
BEGIN:VEVENT
UID:111@fidta.fr
DTSTART;TZID=Europe/Paris;VALUE=DATE:20210416
DTEND;TZID=Europe/Paris;VALUE=DATE:20210425
DTSTAMP:20210408T064652Z
URL:https://www.fidta.fr/Stages/stage-pba-a-paris-3/
SUMMARY:Stage PBA à Paris (Courbevoie)
DESCRIPTION:Formatrice : Mme Faïrouz Rouzaud\n\nPour les questions merci 
 de contacter la formatrice : direction@institut-delatte.org\n\n 	Journée 
 découverte à la PBA et Prérequis Niveau 1 : 16 avril 2021\nLa journée 
 découverte peut s’effectuer seule ou en prérequis pour accéder au niv
 eau 1\n 	Niveau 1 : 17 &amp\; 18 avril 2021\n\n 	Niveau 2 : 19\, 20 &amp\;
  21 avril 2021\n\n 	Module verbalisation classique : 21 avril 2021\n 	Bila
 n de compétences niveau 3 à 5 : 22 &amp\; 23 avril 2021 – Niveau 3-5
  COMPLET !\nVous pouvez vous inscrire sur la liste d’attente\n\n 	Audite
 ur libre : 22 &amp\; 23 avril 2021 COMPLET !\n 	Bilan de compétences nive
 au 3B : 24 avril 2021\n\nAttention pour l’inscription\, il ne faut pas o
 ublier les frais de dossier.
ATTACH;FMTTYPE=image/jpeg:https://www.fidta.fr/wp-content/uploads/2018/09/
 paris-3296269_640.jpg
LOCATION:Courbevoie\, INNOSCREEN\, 7 avenue Château du Loir\, Courbevoie\,
  92400\, France
GEO:48.899093;2.250953
X-APPLE-STRUCTURED-LOCATION;VALUE=URI;X-ADDRESS=INNOSCREEN\, 7 avenue Chât
 eau du Loir\, Courbevoie\, 92400\, France;X-APPLE-RADIUS=100;X-TITLE=Courb
 evoie:geo:48.899093,2.250953
END:VEVENT
BEGIN:VTIMEZONE
TZID:Europe/Paris
X-LIC-LOCATION:Europe/Paris
BEGIN:DAYLIGHT
DTSTART:20210328T030000
TZOFFSETFROM:+0100
TZOFFSETTO:+0200
TZNAME:CEST
END:DAYLIGHT
END:VTIMEZONE
END:VCALENDAR