BEGIN:VCALENDAR
VERSION:2.0
PRODID:-//wp-events-plugin.com//6.6.4.4//EN
TZID:Europe/Paris
X-WR-TIMEZONE:Europe/Paris
BEGIN:VEVENT
UID:135@fidta.fr
DTSTART;TZID=Europe/Paris:20210423T000000
DTEND;TZID=Europe/Paris:20210425T000000
DTSTAMP:20210318T081642Z
URL:https://www.fidta.fr/Stages/journee-decouverte-a-la-pba-et-niveau-1-a-
 geneve-suisse-4/
SUMMARY:Journée Découverte à la PBA et Niveau 1 à Genève (Suisse)
DESCRIPTION:Formatrice : Mme Sophie REYDEL\nPour les questions merci de con
 tacter la formatrice : suissepba@institut-delatte.org\n\n 	Prérequis et D
 écouverte obligatoire pour le niveau 1 : 23 avril 2021\nLa journée déc
 ouverte peut s’effectuer seule ou en prérequis pour accéder au niveau
  1\n 	Niveau 1 :  24 &amp\; 25 avril 2021\n\nAttention pour l’inscripti
 on\, il ne faut pas oublier les frais de dossier\n\nATTENTION : maximum 6 
 personnes pour le Prérequis ou le niveau 1
ATTACH;FMTTYPE=image/jpeg:https://www.fidta.fr/wp-content/uploads/2018/09/
 geneva-141149_640.jpg
LOCATION:Genève\, 44 Boulevard du Pont-d'Arve\, Genève\, 1205\, Suisse
GEO:46.194095;6.140275
X-APPLE-STRUCTURED-LOCATION;VALUE=URI;X-ADDRESS=44 Boulevard du Pont-d'Arve
 \, Genève\, 1205\, Suisse;X-APPLE-RADIUS=100;X-TITLE=Genève:geo:46.19409
 5,6.140275
END:VEVENT
BEGIN:VTIMEZONE
TZID:Europe/Paris
X-LIC-LOCATION:Europe/Paris
BEGIN:DAYLIGHT
DTSTART:20210328T030000
TZOFFSETFROM:+0100
TZOFFSETTO:+0200
TZNAME:CEST
END:DAYLIGHT
END:VTIMEZONE
END:VCALENDAR