BEGIN:VCALENDAR
VERSION:2.0
PRODID:-//wp-events-plugin.com//6.6.4.4//EN
TZID:Europe/Paris
X-WR-TIMEZONE:Europe/Paris
BEGIN:VEVENT
UID:56@fidta.fr
DTSTART;TZID=Europe/Paris;VALUE=DATE:20200228
DTEND;TZID=Europe/Paris;VALUE=DATE:20200302
DTSTAMP:20190801T082843Z
URL:https://www.fidta.fr/Stages/journee-decouverte-a-la-pba-et-niveau-1-a-
 bruxelles/
SUMMARY:Journée Découverte à la PBA et Niveau 1 à Bruxelles
DESCRIPTION:Organisateur : M Michaël MARTIN\n\nPour les questions merci 
 de contacter l’organisateur : pba.belgique@institut-delatte.org\n\nForm
 atrice : Mme Sylvie CHEVRON\n\n 	Journée découverte à la PBA\, préreq
 uis de Niveau 1 : 28 février 2020\nLa journée découverte peut s’effec
 tuer seule ou en prérequis pour accéder au niveau 1\n 	Niveau 1 : 29 fé
 vrier et 1 mars 2020\n\nAttention pour l’inscription\, il ne faut pas ou
 blier les frais de dossier
ATTACH;FMTTYPE=image/jpeg:https://www.fidta.fr/wp-content/uploads/2018/05/
 brussels-2444880_640.jpg
LOCATION:Bruxelles\, L'Espace\, 13-15 Avenue Paul Dejaer\, Saint Gilles Bru
 xelles\, 1060\, Belgique
GEO:50.825789;4.344794
X-APPLE-STRUCTURED-LOCATION;VALUE=URI;X-ADDRESS=L'Espace\, 13-15 Avenue Pau
 l Dejaer\, Saint Gilles Bruxelles\, 1060\, Belgique;X-APPLE-RADIUS=100;X-T
 ITLE=Bruxelles:geo:50.825789,4.344794
END:VEVENT
BEGIN:VTIMEZONE
TZID:Europe/Paris
X-LIC-LOCATION:Europe/Paris
BEGIN:STANDARD
DTSTART:20191027T020000
TZOFFSETFROM:+0200
TZOFFSETTO:+0100
TZNAME:CET
END:STANDARD
END:VTIMEZONE
END:VCALENDAR