BEGIN:VCALENDAR
VERSION:2.0
PRODID:-//wp-events-plugin.com//6.6.4.4//EN
TZID:Europe/Paris
X-WR-TIMEZONE:Europe/Paris
BEGIN:VEVENT
UID:132@fidta.fr
DTSTART;TZID=Europe/Paris;VALUE=DATE:20210709
DTEND;TZID=Europe/Paris;VALUE=DATE:20210712
DTSTAMP:20210217T101017Z
URL:https://www.fidta.fr/Stages/journee-decouverte-a-la-pba-et-niveau-1-a-
 brest-2/
SUMMARY:Journée Découverte à la PBA et Niveau 1 à Brest
DESCRIPTION:Formatrice :  Mme Gwenola QUELQUEJAY\n\nPour les questions me
 rci de contacter la formatrice : gwen@fidta.fr\n\n 	Journée découverte
  à la PBA (Prérequis pour le Niveau 1) : 09 juillet 2021 de 9h30 à 12h 
 et de 14h à 16h30\nLa journée découverte peut s’effectuer seule ou en
  prérequis pour accéder au niveau 1\n 	Niveau 1 : 10 juillet 2021 de 9h 
 à 12h et de 14h à 17h &amp\; 11 juillet 2021 de 9h à 12h\n\nAttention p
 our l’inscription\, il ne faut pas oublier les frais de dossier
ATTACH;FMTTYPE=image/jpeg:https://www.fidta.fr/wp-content/uploads/2018/03/
 brest-1581580_1280.jpg
LOCATION:Brest\, Hotel Escale Oceania\, 32 Av Baron Lacrosse\, GOUESNOU\, 2
 9850\, France
GEO:48.4322836;-4.460518200000024
X-APPLE-STRUCTURED-LOCATION;VALUE=URI;X-ADDRESS=Hotel Escale Oceania\, 32 A
 v Baron Lacrosse\, GOUESNOU\, 29850\, France;X-APPLE-RADIUS=100;X-TITLE=Br
 est:geo:48.4322836,-4.460518200000024
END:VEVENT
BEGIN:VTIMEZONE
TZID:Europe/Paris
X-LIC-LOCATION:Europe/Paris
BEGIN:DAYLIGHT
DTSTART:20210328T030000
TZOFFSETFROM:+0100
TZOFFSETTO:+0200
TZNAME:CEST
END:DAYLIGHT
END:VTIMEZONE
END:VCALENDAR