BEGIN:VCALENDAR
VERSION:2.0
PRODID:-//wp-events-plugin.com//6.6.4.4//EN
TZID:Europe/Paris
X-WR-TIMEZONE:Europe/Paris
BEGIN:VEVENT
UID:136@fidta.fr
DTSTART;TZID=Europe/Paris;VALUE=DATE:20210605
DTEND;TZID=Europe/Paris;VALUE=DATE:20210608
DTSTAMP:20210329T141928Z
URL:https://www.fidta.fr/Stages/journee-decouverte-a-la-pba-et-niveau-1-a-
 bastia-3/
SUMMARY:Journée Découverte à la PBA et Niveau 1 à Bastia
DESCRIPTION:Formateur : M. Raphaël GRANGE\nPour les questions merci de co
 ntacter le formateur : r.grange@institut-delatte.org\n\n 	Prérequis et D
 écouverte\, obligatoire pour le niveau 1 : 05 juin 2021\, 9h30 – 12h00
  et 14h00 – 16H30\nLa journée découverte peut s’effectuer seule ou e
 n prérequis pour accéder au niveau 1\n 	Niveau 1 : 06 juin 2021 \, 9h00
  – 12h00 / 14h00 – 17h00 &amp\; 07 juin 2021\, 9h00 – 12h00\n\nAtten
 tion pour l’inscription\, il ne faut pas oublier les frais de dossier
ATTACH;FMTTYPE=image/jpeg:https://www.fidta.fr/wp-content/uploads/2020/10/
 bastia2.jpg
LOCATION:Bastia\, A définir\, Bastia\, Corse\, France
GEO:42.696837;9.450339
X-APPLE-STRUCTURED-LOCATION;VALUE=URI;X-ADDRESS=A définir\, Bastia\, Corse
 \, France;X-APPLE-RADIUS=100;X-TITLE=Bastia:geo:42.696837,9.450339
END:VEVENT
BEGIN:VTIMEZONE
TZID:Europe/Paris
X-LIC-LOCATION:Europe/Paris
BEGIN:DAYLIGHT
DTSTART:20210328T030000
TZOFFSETFROM:+0100
TZOFFSETTO:+0200
TZNAME:CEST
END:DAYLIGHT
END:VTIMEZONE
END:VCALENDAR