BEGIN:VCALENDAR
VERSION:2.0
PRODID:-//wp-events-plugin.com//6.6.4.4//EN
TZID:Europe/Paris
X-WR-TIMEZONE:Europe/Paris
BEGIN:VEVENT
UID:28@fidta.fr
DTSTART;TZID=Europe/Paris;VALUE=DATE:20190318
DTEND;TZID=Europe/Paris;VALUE=DATE:20190321
DTSTAMP:20181210T134721Z
URL:https://www.fidta.fr/Stages/formation-supervision-a-marseille/
SUMMARY:Formation Supervision à Marseille
DESCRIPTION:Formatrice : Mme Faïrouz ROUZAUD\n\nPour les questions merci 
 de contacter la formatrice : directrice@institut-delatte.org\n\n 	Supervi
 sion 1 : 18 &amp\; 19 mars 2019\n 	Supervision 2 : 19 &amp\; 20 mars 2019\
 n
ATTACH;FMTTYPE=image/jpeg:https://www.fidta.fr/wp-content/uploads/2018/09/
 marseille-3423494_640.jpg
LOCATION:Marseille\, Centre Le Mistral 11 Impasse Flammarion\, Marseille\, 
 13001\, France
GEO:43.3035514;5.3877023999999665
X-APPLE-STRUCTURED-LOCATION;VALUE=URI;X-ADDRESS=Centre Le Mistral 11 Impass
 e Flammarion\, Marseille\, 13001\, France;X-APPLE-RADIUS=100;X-TITLE=Marse
 ille:geo:43.3035514,5.3877023999999665
END:VEVENT
BEGIN:VTIMEZONE
TZID:Europe/Paris
X-LIC-LOCATION:Europe/Paris
BEGIN:STANDARD
DTSTART:20181028T020000
TZOFFSETFROM:+0200
TZOFFSETTO:+0100
TZNAME:CET
END:STANDARD
END:VTIMEZONE
END:VCALENDAR