BEGIN:VCALENDAR
VERSION:2.0
PRODID:-//wp-events-plugin.com//6.6.4.4//EN
TZID:Europe/Paris
X-WR-TIMEZONE:Europe/Paris
BEGIN:VEVENT
UID:147@fidta.fr
DTSTART;TZID=Europe/Paris;VALUE=DATE:20210702
DTEND;TZID=Europe/Paris;VALUE=DATE:20210711
DTSTAMP:20210614T125105Z
URL:https://www.fidta.fr/Stages/formation-pba-a-paris/
SUMMARY:Formation PBA à Paris
DESCRIPTION:Formatrice : Mme Faïrouz ROUZAUD\n\nPour les questions merci d
 e contacter la formatrice : direction@institut-delatte.org\n\n 	Journée d
 écouverte à la PBA et Prérequis Niveau 1 : 2 juillet 2021\nLa journée 
 découverte peut s’effectuer seule ou en prérequis pour accéder au niv
 eau 1\n 	Niveau 1 : 3 &amp\; 4 juillet 2021\n\n 	Niveau 2 : 5\, 6 &amp\; 7
  juillet 2021\n 	Module verbalisation classique : 7 juillet 2021 – En 
 visioconférence pour La Nouvelle-Calédonie et La Réunion\n 	Bilan de co
 mpétences niveau 3 à 5 : 8 &amp\; 9 juillet 2021\n 	Auditeur libre : 8 &
 amp\; 9 juillet 2021 – En visioconférence pour La Nouvelle-Calédonie
  et La Réunion\n 	Bilan de compétences niveau 3B : 10 juillet 2021\n\nAt
 tention pour l’inscription\, il ne faut pas oublier les frais de dossier
 .
ATTACH;FMTTYPE=image/jpeg:https://www.fidta.fr/wp-content/uploads/2018/09/
 paris-3296269_640.jpg
LOCATION:Paris - Forum 104\, 104 rue de Vaugirard\, Paris\, 75006\, France
GEO:48.84613;2.32346
X-APPLE-STRUCTURED-LOCATION;VALUE=URI;X-ADDRESS=104 rue de Vaugirard\, Pari
 s\, 75006\, France;X-APPLE-RADIUS=100;X-TITLE=Paris - Forum 104:geo:48.846
 13,2.32346
END:VEVENT
BEGIN:VTIMEZONE
TZID:Europe/Paris
X-LIC-LOCATION:Europe/Paris
BEGIN:DAYLIGHT
DTSTART:20210328T030000
TZOFFSETFROM:+0100
TZOFFSETTO:+0200
TZNAME:CEST
END:DAYLIGHT
END:VTIMEZONE
END:VCALENDAR