BEGIN:VCALENDAR
VERSION:2.0
PRODID:-//wp-events-plugin.com//6.6.4.4//EN
TZID:Europe/Paris
X-WR-TIMEZONE:Europe/Paris
BEGIN:VEVENT
UID:82@fidta.fr
DTSTART;TZID=Europe/Paris;VALUE=DATE:20211126
DTEND;TZID=Europe/Paris;VALUE=DATE:20211129
DTSTAMP:20201218T112052Z
URL:https://www.fidta.fr/Stages/formation-pba-a-luxembourg/
SUMMARY:Formation PBA à Luxembourg
DESCRIPTION:Formatrice : Mme Sylvie CHEVRON\n\nPour les questions merci de
  contacter la formatrice : formationpba@institut-delatte.org\n\n 	Journ
 ée découverte à la PBA et Prérequis Niveau 1 : 26 novembre 2021\nLa jo
 urnée découverte peut s’effectuer seule ou en prérequis pour accéder
  au niveau 1\n 	Niveau 1 : 27 &amp\; 28 novembre 2021\n\nAttention pour l
 ’inscription\, il ne faut pas oublier les frais de dossier.
ATTACH;FMTTYPE=image/jpeg:https://www.fidta.fr/wp-content/uploads/2017/12/
 luxembourg-2354945_1280.jpg
LOCATION:Luxembourg\, YOUTH HOSTEL LUXEMBOURG-CITY\, 2\, rue du Fort Olisy\
 , Luxembourg\, 2261\, Luxembourg
GEO:49.613009;6.138066999999978
X-APPLE-STRUCTURED-LOCATION;VALUE=URI;X-ADDRESS=YOUTH HOSTEL LUXEMBOURG-CIT
 Y\, 2\, rue du Fort Olisy\, Luxembourg\, 2261\, Luxembourg;X-APPLE-RADIUS=
 100;X-TITLE=Luxembourg:geo:49.613009,6.138066999999978
END:VEVENT
BEGIN:VTIMEZONE
TZID:Europe/Paris
X-LIC-LOCATION:Europe/Paris
BEGIN:STANDARD
DTSTART:20211031T020000
TZOFFSETFROM:+0200
TZOFFSETTO:+0100
TZNAME:CET
END:STANDARD
END:VTIMEZONE
END:VCALENDAR