BEGIN:VCALENDAR
VERSION:2.0
PRODID:-//wp-events-plugin.com//6.6.4.4//EN
TZID:Europe/Paris
X-WR-TIMEZONE:Europe/Paris
BEGIN:VEVENT
UID:112@fidta.fr
DTSTART;TZID=Europe/Paris;VALUE=DATE:20201128
DTEND;TZID=Europe/Paris;VALUE=DATE:20201129
DTSTAMP:20201124T141624Z
URL:https://www.fidta.fr/Stages/cours-verbalisation-classique-en-ligne/
SUMMARY:Cours Verbalisation classique en ligne
DESCRIPTION:Formatrice : Mme Faïrouz ROUZAUD\nPour les questions merci de
  contacter la formatrice : direction@institut-delatte.org\n\n 	Module ver
 balisation classique : 28 novembre 2020\, de 9h à 12h et de 14h à 17 h\,
  heure française\n
ATTACH;FMTTYPE=image/jpeg:https://www.fidta.fr/wp-content/uploads/2020/10/
 enligne.jpg
LOCATION:En ligne\, En ligne\, En ligne\, France
GEO:48.836519;2.280292
X-APPLE-STRUCTURED-LOCATION;VALUE=URI;X-ADDRESS=En ligne\, En ligne\, Franc
 e;X-APPLE-RADIUS=100;X-TITLE=En ligne:geo:48.836519,2.280292
END:VEVENT
BEGIN:VTIMEZONE
TZID:Europe/Paris
X-LIC-LOCATION:Europe/Paris
BEGIN:STANDARD
DTSTART:20201025T020000
TZOFFSETFROM:+0200
TZOFFSETTO:+0100
TZNAME:CET
END:STANDARD
END:VTIMEZONE
END:VCALENDAR